BEGIN:VCALENDAR
VERSION:2.0
PRODID:-//The Banyan Odyssey - ECPv6.15.20//NONSGML v1.0//EN
CALSCALE:GREGORIAN
METHOD:PUBLISH
X-ORIGINAL-URL:https://ourbanyan.com
X-WR-CALDESC:Events for The Banyan Odyssey
REFRESH-INTERVAL;VALUE=DURATION:PT1H
X-Robots-Tag:noindex
X-PUBLISHED-TTL:PT1H
BEGIN:VTIMEZONE
TZID:UTC
BEGIN:STANDARD
TZOFFSETFROM:+0000
TZOFFSETTO:+0000
TZNAME:UTC
DTSTART:20180101T000000
END:STANDARD
END:VTIMEZONE
BEGIN:VEVENT
DTSTART;TZID=UTC:20191207T140000
DTEND;TZID=UTC:20191207T170000
DTSTAMP:20260423T070600
CREATED:20191203T120326Z
LAST-MODIFIED:20191204T050507Z
UID:6060-1575727200-1575738000@ourbanyan.com
SUMMARY:Holiday Crafting
DESCRIPTION:Master Artist Joy Swanson will teach us to make our own candles\, craft cards and decorate tree ornaments. Artists may take some home\, the rest will be displayed for sale at the Holiday Pop-Up Market at Second Century Studio from December 11 to 15th.
URL:https://ourbanyan.com/event/holiday-crafting/
LOCATION:Skycrest Community Church\, 125 N Belcher Rd\, Clearwater\, FL\, 33765
ORGANIZER;CN="Jane Williams":MAILTO:hello@ourbanyan.com
END:VEVENT
END:VCALENDAR